BEGIN:VCALENDAR
VERSION:2.0
PRODID:-//phil.firespring.org//NONSGML kigkonsult.se iCalcreator 2.30.10//
CALSCALE:GREGORIAN
METHOD:PUBLISH
UID:69307eaa-8817-4b03-939c-185b9898a8aa
X-WR-CALDESC:Please bring drinking water
X-WR-RELCALID:377f27401b2b3bb9a5d6524539319c8e
X-WR-TIMEZONE:America/Chicago
BEGIN:VTIMEZONE
TZID:America/Chicago
BEGIN:STANDARD
TZNAME:CST
DTSTART:20281105T020000
TZOFFSETFROM:-0500
TZOFFSETTO:-0600
RDATE:20291104T020000
END:STANDARD
BEGIN:DAYLIGHT
TZNAME:CDT
DTSTART:20290311T020000
TZOFFSETFROM:-0600
TZOFFSETTO:-0500
RDATE:20300310T020000
END:DAYLIGHT
END:VTIMEZONE
BEGIN:VEVENT
UID:e262d9a0-d68d-443f-b77f-7b8c14924cd0
DTSTAMP:20260422T002413Z
DESCRIPTION:Please bring drinking water
DTSTART;TZID=America/Chicago:20290412T160000
DTEND;TZID=America/Chicago:20290412T170000
LOCATION:Firespring
SUMMARY:Walking Group
END:VEVENT
END:VCALENDAR
