BEGIN:VCALENDAR
VERSION:2.0
PRODID:-//phil.firespring.org//NONSGML kigkonsult.se iCalcreator 2.30.10//
CALSCALE:GREGORIAN
METHOD:PUBLISH
UID:154527bc-821b-4d27-8df4-75fd528784e6
X-WR-CALDESC:Please bring drinking water
X-WR-RELCALID:735631c4125652d96593495a08874ec4
X-WR-TIMEZONE:America/Chicago
BEGIN:VTIMEZONE
TZID:America/Chicago
BEGIN:STANDARD
TZNAME:CST
DTSTART:20281105T020000
TZOFFSETFROM:-0500
TZOFFSETTO:-0600
RDATE:20291104T020000
END:STANDARD
BEGIN:DAYLIGHT
TZNAME:CDT
DTSTART:20290311T020000
TZOFFSETFROM:-0600
TZOFFSETTO:-0500
RDATE:20300310T020000
END:DAYLIGHT
END:VTIMEZONE
BEGIN:VEVENT
UID:702b3bdd-8b39-4eec-97f1-0fe476969d16
DTSTAMP:20260422T002331Z
DESCRIPTION:Please bring drinking water
DTSTART;TZID=America/Chicago:20290426T160000
DTEND;TZID=America/Chicago:20290426T170000
LOCATION:Firespring
SUMMARY:Walking Group
END:VEVENT
END:VCALENDAR
