BEGIN:VCALENDAR
VERSION:2.0
PRODID:-//phil.firespring.org//NONSGML kigkonsult.se iCalcreator 2.30.10//
CALSCALE:GREGORIAN
METHOD:PUBLISH
UID:bb3a7b4a-76f8-49ce-b83d-96f515a71d45
X-WR-CALDESC:Please bring drinking water
X-WR-RELCALID:fbe08630b581c3e3b9db989754949a43
X-WR-TIMEZONE:America/Chicago
BEGIN:VTIMEZONE
TZID:America/Chicago
BEGIN:STANDARD
TZNAME:CST
DTSTART:20281105T020000
TZOFFSETFROM:-0500
TZOFFSETTO:-0600
RDATE:20291104T020000
END:STANDARD
BEGIN:DAYLIGHT
TZNAME:CDT
DTSTART:20290311T020000
TZOFFSETFROM:-0600
TZOFFSETTO:-0500
RDATE:20300310T020000
END:DAYLIGHT
END:VTIMEZONE
BEGIN:VEVENT
UID:4428557f-6c6f-4574-9604-629233e170b1
DTSTAMP:20260422T020236Z
DESCRIPTION:Please bring drinking water
DTSTART;TZID=America/Chicago:20290503T160000
DTEND;TZID=America/Chicago:20290503T170000
LOCATION:Firespring
SUMMARY:Walking Group
END:VEVENT
END:VCALENDAR
