BEGIN:VCALENDAR
VERSION:2.0
PRODID:-//phil.firespring.org//NONSGML kigkonsult.se iCalcreator 2.30.10//
CALSCALE:GREGORIAN
METHOD:PUBLISH
UID:a72d4d86-ee92-4a67-8adc-99d1c5b9c246
X-WR-CALDESC:Please bring drinking water
X-WR-RELCALID:9a6983b6504e41fab5eebe077e40dbed
X-WR-TIMEZONE:America/Chicago
BEGIN:VTIMEZONE
TZID:America/Chicago
BEGIN:STANDARD
TZNAME:CST
DTSTART:20281105T020000
TZOFFSETFROM:-0500
TZOFFSETTO:-0600
RDATE:20291104T020000
RDATE:20301103T020000
END:STANDARD
BEGIN:DAYLIGHT
TZNAME:CDT
DTSTART:20290311T020000
TZOFFSETFROM:-0600
TZOFFSETTO:-0500
RDATE:20300310T020000
END:DAYLIGHT
END:VTIMEZONE
BEGIN:VEVENT
UID:db372ee7-fdfa-4879-9dcd-7ea5305adbdc
DTSTAMP:20260422T020312Z
DESCRIPTION:Please bring drinking water
DTSTART;TZID=America/Chicago:20290531T160000
DTEND;TZID=America/Chicago:20290531T170000
LOCATION:Firespring
SUMMARY:Walking Group
END:VEVENT
END:VCALENDAR
