BEGIN:VCALENDAR
VERSION:2.0
PRODID:-//phil.firespring.org//NONSGML kigkonsult.se iCalcreator 2.30.10//
CALSCALE:GREGORIAN
METHOD:PUBLISH
UID:4fdd7b53-bc10-433c-9e9c-f0e4c1c75148
X-WR-CALDESC:Please bring drinking water
X-WR-RELCALID:beef8e7c4dbcbaa6408f47d386a62a1a
X-WR-TIMEZONE:America/Chicago
BEGIN:VTIMEZONE
TZID:America/Chicago
BEGIN:STANDARD
TZNAME:CST
DTSTART:20281105T020000
TZOFFSETFROM:-0500
TZOFFSETTO:-0600
RDATE:20291104T020000
RDATE:20301103T020000
END:STANDARD
BEGIN:DAYLIGHT
TZNAME:CDT
DTSTART:20290311T020000
TZOFFSETFROM:-0600
TZOFFSETTO:-0500
RDATE:20300310T020000
END:DAYLIGHT
END:VTIMEZONE
BEGIN:VEVENT
UID:5e08cad2-9247-490b-9ad9-e1d9f8d0bedc
DTSTAMP:20260422T041125Z
DESCRIPTION:Please bring drinking water
DTSTART;TZID=America/Chicago:20290614T160000
DTEND;TZID=America/Chicago:20290614T170000
LOCATION:Firespring
SUMMARY:Walking Group
END:VEVENT
END:VCALENDAR
