BEGIN:VCALENDAR
VERSION:2.0
PRODID:-//phil.firespring.org//NONSGML kigkonsult.se iCalcreator 2.30.10//
CALSCALE:GREGORIAN
METHOD:PUBLISH
UID:827dc537-fa08-461f-b05e-40400ad0b031
X-WR-CALDESC:Please bring drinking water
X-WR-RELCALID:1080a10a00bf160216899ebdcb74eb44
X-WR-TIMEZONE:America/Chicago
BEGIN:VTIMEZONE
TZID:America/Chicago
BEGIN:STANDARD
TZNAME:CST
DTSTART:20281105T020000
TZOFFSETFROM:-0500
TZOFFSETTO:-0600
RDATE:20291104T020000
RDATE:20301103T020000
END:STANDARD
BEGIN:DAYLIGHT
TZNAME:CDT
DTSTART:20290311T020000
TZOFFSETFROM:-0600
TZOFFSETTO:-0500
RDATE:20300310T020000
END:DAYLIGHT
END:VTIMEZONE
BEGIN:VEVENT
UID:16b6a17d-59c2-4bea-8cd4-439b7f1c9d1b
DTSTAMP:20260422T040310Z
DESCRIPTION:Please bring drinking water
DTSTART;TZID=America/Chicago:20290628T160000
DTEND;TZID=America/Chicago:20290628T170000
LOCATION:Firespring
SUMMARY:Walking Group
END:VEVENT
END:VCALENDAR
