BEGIN:VCALENDAR
VERSION:2.0
PRODID:-//phil.firespring.org//NONSGML kigkonsult.se iCalcreator 2.30.10//
CALSCALE:GREGORIAN
METHOD:PUBLISH
UID:02974473-5005-4054-917d-d5ec9e311687
X-WR-CALDESC:Please bring drinking water
X-WR-RELCALID:14c4e7aeec57f3d65065cf8c10ca0c42
X-WR-TIMEZONE:America/Chicago
BEGIN:VTIMEZONE
TZID:America/Chicago
BEGIN:STANDARD
TZNAME:CST
DTSTART:20281105T020000
TZOFFSETFROM:-0500
TZOFFSETTO:-0600
RDATE:20291104T020000
RDATE:20301103T020000
END:STANDARD
BEGIN:DAYLIGHT
TZNAME:CDT
DTSTART:20290311T020000
TZOFFSETFROM:-0600
TZOFFSETTO:-0500
RDATE:20300310T020000
END:DAYLIGHT
END:VTIMEZONE
BEGIN:VEVENT
UID:eb6f6771-1cd0-47f5-a0b9-762cf29fa8e6
DTSTAMP:20260422T050939Z
DESCRIPTION:Please bring drinking water
DTSTART;TZID=America/Chicago:20290705T160000
DTEND;TZID=America/Chicago:20290705T170000
LOCATION:Firespring
SUMMARY:Walking Group
END:VEVENT
END:VCALENDAR
