BEGIN:VCALENDAR
VERSION:2.0
PRODID:-//phil.firespring.org//NONSGML kigkonsult.se iCalcreator 2.30.10//
CALSCALE:GREGORIAN
METHOD:PUBLISH
UID:b432eb05-63c7-4b74-bd46-4637531c8722
X-WR-CALDESC:Please bring drinking water
X-WR-RELCALID:9440eef6b440fe1678e4e99846c364c0
X-WR-TIMEZONE:America/Chicago
BEGIN:VTIMEZONE
TZID:America/Chicago
BEGIN:STANDARD
TZNAME:CST
DTSTART:20281105T020000
TZOFFSETFROM:-0500
TZOFFSETTO:-0600
RDATE:20291104T020000
RDATE:20301103T020000
END:STANDARD
BEGIN:DAYLIGHT
TZNAME:CDT
DTSTART:20290311T020000
TZOFFSETFROM:-0600
TZOFFSETTO:-0500
RDATE:20300310T020000
END:DAYLIGHT
END:VTIMEZONE
BEGIN:VEVENT
UID:5bda6ee6-8d95-4c27-9287-d6e217432ba4
DTSTAMP:20260422T051036Z
DESCRIPTION:Please bring drinking water
DTSTART;TZID=America/Chicago:20290719T160000
DTEND;TZID=America/Chicago:20290719T170000
LOCATION:Firespring
SUMMARY:Walking Group
END:VEVENT
END:VCALENDAR
