BEGIN:VCALENDAR
VERSION:2.0
PRODID:-//phil.firespring.org//NONSGML kigkonsult.se iCalcreator 2.30.10//
CALSCALE:GREGORIAN
METHOD:PUBLISH
UID:4c6d1d3a-7a1f-460a-9416-591d35263449
X-WR-CALDESC:Please bring drinking water
X-WR-RELCALID:90066bb1b6bb4a32d2b734dcc22a7c72
X-WR-TIMEZONE:America/Chicago
BEGIN:VTIMEZONE
TZID:America/Chicago
BEGIN:STANDARD
TZNAME:CST
DTSTART:20281105T020000
TZOFFSETFROM:-0500
TZOFFSETTO:-0600
RDATE:20291104T020000
RDATE:20301103T020000
END:STANDARD
BEGIN:DAYLIGHT
TZNAME:CDT
DTSTART:20290311T020000
TZOFFSETFROM:-0600
TZOFFSETTO:-0500
RDATE:20300310T020000
END:DAYLIGHT
END:VTIMEZONE
BEGIN:VEVENT
UID:4358883a-8968-4aec-8aa8-a5ded1d4172d
DTSTAMP:20260422T065635Z
DESCRIPTION:Please bring drinking water
DTSTART;TZID=America/Chicago:20290809T160000
DTEND;TZID=America/Chicago:20290809T170000
LOCATION:Firespring
SUMMARY:Walking Group
END:VEVENT
END:VCALENDAR
