BEGIN:VCALENDAR
VERSION:2.0
PRODID:-//phil.firespring.org//NONSGML kigkonsult.se iCalcreator 2.30.10//
CALSCALE:GREGORIAN
METHOD:PUBLISH
UID:9348911e-57eb-44f1-a6c5-1d6bed01f4f9
X-WR-CALDESC:Please bring drinking water
X-WR-RELCALID:62d74c24741f6548336665bec3c0133d
X-WR-TIMEZONE:America/Chicago
BEGIN:VTIMEZONE
TZID:America/Chicago
BEGIN:STANDARD
TZNAME:CST
DTSTART:20281105T020000
TZOFFSETFROM:-0500
TZOFFSETTO:-0600
RDATE:20291104T020000
RDATE:20301103T020000
END:STANDARD
BEGIN:DAYLIGHT
TZNAME:CDT
DTSTART:20290311T020000
TZOFFSETFROM:-0600
TZOFFSETTO:-0500
RDATE:20300310T020000
RDATE:20310309T020000
END:DAYLIGHT
END:VTIMEZONE
BEGIN:VEVENT
UID:16f8526f-c753-4121-aad6-e36f9ff74bed
DTSTAMP:20260422T083534Z
DESCRIPTION:Please bring drinking water
DTSTART;TZID=America/Chicago:20290927T160000
DTEND;TZID=America/Chicago:20290927T170000
LOCATION:Firespring
SUMMARY:Walking Group
END:VEVENT
END:VCALENDAR
