BEGIN:VCALENDAR
VERSION:2.0
PRODID:-//phil.firespring.org//NONSGML kigkonsult.se iCalcreator 2.30.10//
CALSCALE:GREGORIAN
METHOD:PUBLISH
UID:03a9a85d-c8e9-4c90-8ff4-aa0899e6215b
X-WR-CALDESC:Please bring drinking water
X-WR-RELCALID:34f48c48db1cb323644a6358ca4fad98
X-WR-TIMEZONE:America/Chicago
BEGIN:VTIMEZONE
TZID:America/Chicago
BEGIN:STANDARD
TZNAME:CST
DTSTART:20291104T020000
TZOFFSETFROM:-0500
TZOFFSETTO:-0600
RDATE:20301103T020000
END:STANDARD
BEGIN:DAYLIGHT
TZNAME:CDT
DTSTART:20290311T020000
TZOFFSETFROM:-0600
TZOFFSETTO:-0500
RDATE:20300310T020000
RDATE:20310309T020000
END:DAYLIGHT
END:VTIMEZONE
BEGIN:VEVENT
UID:90d420eb-f044-40f7-8a02-4cd3986d2ab3
DTSTAMP:20260422T133230Z
DESCRIPTION:Please bring drinking water
DTSTART;TZID=America/Chicago:20291206T160000
DTEND;TZID=America/Chicago:20291206T170000
LOCATION:Firespring
SUMMARY:Walking Group
END:VEVENT
END:VCALENDAR
