BEGIN:VCALENDAR
VERSION:2.0
PRODID:-//phil.firespring.org//NONSGML kigkonsult.se iCalcreator 2.30.10//
CALSCALE:GREGORIAN
METHOD:PUBLISH
UID:a4e8753d-e69f-4943-933c-593e68b03bb2
X-WR-CALDESC:Please bring drinking water
X-WR-RELCALID:67f06b14ce3cb1b447c3ab966cc9aa86
X-WR-TIMEZONE:America/Chicago
BEGIN:VTIMEZONE
TZID:America/Chicago
BEGIN:STANDARD
TZNAME:CST
DTSTART:20291104T020000
TZOFFSETFROM:-0500
TZOFFSETTO:-0600
RDATE:20301103T020000
END:STANDARD
BEGIN:DAYLIGHT
TZNAME:CDT
DTSTART:20290311T020000
TZOFFSETFROM:-0600
TZOFFSETTO:-0500
RDATE:20300310T020000
RDATE:20310309T020000
END:DAYLIGHT
END:VTIMEZONE
BEGIN:VEVENT
UID:c41c2568-feac-4611-968b-b1eb8996719e
DTSTAMP:20260422T163204Z
DESCRIPTION:Please bring drinking water
DTSTART;TZID=America/Chicago:20300207T160000
DTEND;TZID=America/Chicago:20300207T170000
LOCATION:Firespring
SUMMARY:Walking Group
END:VEVENT
END:VCALENDAR
