BEGIN:VCALENDAR
VERSION:2.0
PRODID:-//phil.firespring.org//NONSGML kigkonsult.se iCalcreator 2.30.10//
CALSCALE:GREGORIAN
METHOD:PUBLISH
UID:7a081d5a-6074-4b59-a542-2a79c784f712
X-WR-CALDESC:Please bring drinking water
X-WR-RELCALID:ca33d57bcfb0c429a8f2b4f91d18d792
X-WR-TIMEZONE:America/Chicago
BEGIN:VTIMEZONE
TZID:America/Chicago
BEGIN:STANDARD
TZNAME:CST
DTSTART:20291104T020000
TZOFFSETFROM:-0500
TZOFFSETTO:-0600
RDATE:20301103T020000
END:STANDARD
BEGIN:DAYLIGHT
TZNAME:CDT
DTSTART:20290311T020000
TZOFFSETFROM:-0600
TZOFFSETTO:-0500
RDATE:20300310T020000
RDATE:20310309T020000
END:DAYLIGHT
END:VTIMEZONE
BEGIN:VEVENT
UID:6e714dd1-94e1-47dc-8c38-9e4199eefa5a
DTSTAMP:20260422T163204Z
DESCRIPTION:Please bring drinking water
DTSTART;TZID=America/Chicago:20300221T160000
DTEND;TZID=America/Chicago:20300221T170000
LOCATION:Firespring
SUMMARY:Walking Group
END:VEVENT
END:VCALENDAR
