BEGIN:VCALENDAR
VERSION:2.0
PRODID:-//phil.firespring.org//NONSGML kigkonsult.se iCalcreator 2.30.10//
CALSCALE:GREGORIAN
METHOD:PUBLISH
UID:4e775ebe-b5f6-4aca-ae73-f17a1efadff7
X-WR-CALDESC:Please bring drinking water
X-WR-RELCALID:cd2ed2083d4a4f1ddb0d4cda74193021
X-WR-TIMEZONE:America/Chicago
BEGIN:VTIMEZONE
TZID:America/Chicago
BEGIN:STANDARD
TZNAME:CST
DTSTART:20291104T020000
TZOFFSETFROM:-0500
TZOFFSETTO:-0600
RDATE:20301103T020000
END:STANDARD
BEGIN:DAYLIGHT
TZNAME:CDT
DTSTART:20290311T020000
TZOFFSETFROM:-0600
TZOFFSETTO:-0500
RDATE:20300310T020000
RDATE:20310309T020000
END:DAYLIGHT
END:VTIMEZONE
BEGIN:VEVENT
UID:c4f89140-3cad-4b0d-823d-a4aaa4a51a81
DTSTAMP:20260422T163203Z
DESCRIPTION:Please bring drinking water
DTSTART;TZID=America/Chicago:20300228T160000
DTEND;TZID=America/Chicago:20300228T170000
LOCATION:Firespring
SUMMARY:Walking Group
END:VEVENT
END:VCALENDAR
