BEGIN:VCALENDAR
VERSION:2.0
PRODID:-//phil.firespring.org//NONSGML kigkonsult.se iCalcreator 2.30.10//
CALSCALE:GREGORIAN
METHOD:PUBLISH
UID:59776495-1c07-491e-91ed-f9b842b6f7c7
X-WR-CALDESC:Please bring drinking water
X-WR-RELCALID:51ec64385895dc9e1dca50c0a7eac6cf
X-WR-TIMEZONE:America/Chicago
BEGIN:VTIMEZONE
TZID:America/Chicago
BEGIN:STANDARD
TZNAME:CST
DTSTART:20291104T020000
TZOFFSETFROM:-0500
TZOFFSETTO:-0600
RDATE:20301103T020000
END:STANDARD
BEGIN:DAYLIGHT
TZNAME:CDT
DTSTART:20290311T020000
TZOFFSETFROM:-0600
TZOFFSETTO:-0500
RDATE:20300310T020000
RDATE:20310309T020000
END:DAYLIGHT
END:VTIMEZONE
BEGIN:VEVENT
UID:bcf48fd1-da16-412b-af2b-76e703f18064
DTSTAMP:20260422T183003Z
DESCRIPTION:Please bring drinking water
DTSTART;TZID=America/Chicago:20300307T160000
DTEND;TZID=America/Chicago:20300307T170000
LOCATION:Firespring
SUMMARY:Walking Group
END:VEVENT
END:VCALENDAR
