BEGIN:VCALENDAR
VERSION:2.0
PRODID:-//phil.firespring.org//NONSGML kigkonsult.se iCalcreator 2.30.10//
CALSCALE:GREGORIAN
METHOD:PUBLISH
UID:fff9f932-f8e4-4d19-9e6f-fd92cc361c5f
X-WR-CALDESC:Please bring drinking water
X-WR-RELCALID:160dec8088e4abb8e0a67d3b0ba7d6a0
X-WR-TIMEZONE:America/Chicago
BEGIN:VTIMEZONE
TZID:America/Chicago
BEGIN:STANDARD
TZNAME:CST
DTSTART:20291104T020000
TZOFFSETFROM:-0500
TZOFFSETTO:-0600
RDATE:20301103T020000
END:STANDARD
BEGIN:DAYLIGHT
TZNAME:CDT
DTSTART:20300310T020000
TZOFFSETFROM:-0600
TZOFFSETTO:-0500
RDATE:20310309T020000
END:DAYLIGHT
END:VTIMEZONE
BEGIN:VEVENT
UID:e0a1cde4-e750-4fbb-80d6-6dbd7e10d9a7
DTSTAMP:20260422T180348Z
DESCRIPTION:Please bring drinking water
DTSTART;TZID=America/Chicago:20300328T160000
DTEND;TZID=America/Chicago:20300328T170000
LOCATION:Firespring
SUMMARY:Walking Group
END:VEVENT
END:VCALENDAR
