BEGIN:VCALENDAR
VERSION:2.0
PRODID:-//phil.firespring.org//NONSGML kigkonsult.se iCalcreator 2.30.10//
CALSCALE:GREGORIAN
METHOD:PUBLISH
UID:550a3e46-9de6-441a-8002-2fb172bdc036
X-WR-CALDESC:Please bring drinking water
X-WR-RELCALID:eb9e5feb0b55828f16ed12136ea91d8f
X-WR-TIMEZONE:America/Chicago
BEGIN:VTIMEZONE
TZID:America/Chicago
BEGIN:STANDARD
TZNAME:CST
DTSTART:20291104T020000
TZOFFSETFROM:-0500
TZOFFSETTO:-0600
RDATE:20301103T020000
RDATE:20311102T020000
END:STANDARD
BEGIN:DAYLIGHT
TZNAME:CDT
DTSTART:20300310T020000
TZOFFSETFROM:-0600
TZOFFSETTO:-0500
RDATE:20310309T020000
END:DAYLIGHT
END:VTIMEZONE
BEGIN:VEVENT
UID:54ef7ae2-1f95-477e-b10b-965aeae373fc
DTSTAMP:20260422T205311Z
DESCRIPTION:Please bring drinking water
DTSTART;TZID=America/Chicago:20300509T160000
DTEND;TZID=America/Chicago:20300509T170000
LOCATION:Firespring
SUMMARY:Walking Group
END:VEVENT
END:VCALENDAR
