BEGIN:VCALENDAR
VERSION:2.0
PRODID:-//phil.firespring.org//NONSGML kigkonsult.se iCalcreator 2.30.10//
CALSCALE:GREGORIAN
METHOD:PUBLISH
UID:009de433-a8d8-4aab-926b-6149ede6f56f
X-WR-CALDESC:Please bring drinking water
X-WR-RELCALID:3bcd688a0171ae5f783f7a6e79340a50
X-WR-TIMEZONE:America/Chicago
BEGIN:VTIMEZONE
TZID:America/Chicago
BEGIN:STANDARD
TZNAME:CST
DTSTART:20291104T020000
TZOFFSETFROM:-0500
TZOFFSETTO:-0600
RDATE:20301103T020000
RDATE:20311102T020000
END:STANDARD
BEGIN:DAYLIGHT
TZNAME:CDT
DTSTART:20300310T020000
TZOFFSETFROM:-0600
TZOFFSETTO:-0500
RDATE:20310309T020000
END:DAYLIGHT
END:VTIMEZONE
BEGIN:VEVENT
UID:2cd83049-0363-4421-85c1-dd90aa2d2f5e
DTSTAMP:20260422T222929Z
DESCRIPTION:Please bring drinking water
DTSTART;TZID=America/Chicago:20300613T160000
DTEND;TZID=America/Chicago:20300613T170000
LOCATION:Firespring
SUMMARY:Walking Group
END:VEVENT
END:VCALENDAR
