BEGIN:VCALENDAR
VERSION:2.0
PRODID:-//phil.firespring.org//NONSGML kigkonsult.se iCalcreator 2.30.10//
CALSCALE:GREGORIAN
METHOD:PUBLISH
UID:f8cb0d27-6fe9-41a5-a9f9-f055558e592f
X-WR-CALDESC:Please bring drinking water
X-WR-RELCALID:c755585ac290c8fc49d4502c2b3be5fc
X-WR-TIMEZONE:America/Chicago
BEGIN:VTIMEZONE
TZID:America/Chicago
BEGIN:STANDARD
TZNAME:CST
DTSTART:20291104T020000
TZOFFSETFROM:-0500
TZOFFSETTO:-0600
RDATE:20301103T020000
RDATE:20311102T020000
END:STANDARD
BEGIN:DAYLIGHT
TZNAME:CDT
DTSTART:20300310T020000
TZOFFSETFROM:-0600
TZOFFSETTO:-0500
RDATE:20310309T020000
END:DAYLIGHT
END:VTIMEZONE
BEGIN:VEVENT
UID:e54af2d5-8714-45d3-bfb0-23f11361c678
DTSTAMP:20260422T222833Z
DESCRIPTION:Please bring drinking water
DTSTART;TZID=America/Chicago:20300620T160000
DTEND;TZID=America/Chicago:20300620T170000
LOCATION:Firespring
SUMMARY:Walking Group
END:VEVENT
END:VCALENDAR
