BEGIN:VCALENDAR
VERSION:2.0
PRODID:-//phil.firespring.org//NONSGML kigkonsult.se iCalcreator 2.30.10//
CALSCALE:GREGORIAN
METHOD:PUBLISH
UID:329934a7-5935-4169-8e53-f75407d67bee
X-WR-CALDESC:Please bring drinking water
X-WR-RELCALID:b6934889a1717c529bdc86107fcac907
X-WR-TIMEZONE:America/Chicago
BEGIN:VTIMEZONE
TZID:America/Chicago
BEGIN:STANDARD
TZNAME:CST
DTSTART:20291104T020000
TZOFFSETFROM:-0500
TZOFFSETTO:-0600
RDATE:20301103T020000
RDATE:20311102T020000
END:STANDARD
BEGIN:DAYLIGHT
TZNAME:CDT
DTSTART:20300310T020000
TZOFFSETFROM:-0600
TZOFFSETTO:-0500
RDATE:20310309T020000
END:DAYLIGHT
END:VTIMEZONE
BEGIN:VEVENT
UID:a5878304-c185-49da-9c5a-a9c019dd91e1
DTSTAMP:20260423T000429Z
DESCRIPTION:Please bring drinking water
DTSTART;TZID=America/Chicago:20300704T160000
DTEND;TZID=America/Chicago:20300704T170000
LOCATION:Firespring
SUMMARY:Walking Group
END:VEVENT
END:VCALENDAR
