BEGIN:VCALENDAR
VERSION:2.0
PRODID:-//phil.firespring.org//NONSGML kigkonsult.se iCalcreator 2.30.10//
CALSCALE:GREGORIAN
METHOD:PUBLISH
UID:8a5cfea8-b5b2-4f17-b9b2-dd08ba484758
X-WR-CALDESC:Please bring drinking water
X-WR-RELCALID:e32c0e80033d6261615326a9de7b7fe0
X-WR-TIMEZONE:America/Chicago
BEGIN:VTIMEZONE
TZID:America/Chicago
BEGIN:STANDARD
TZNAME:CST
DTSTART:20291104T020000
TZOFFSETFROM:-0500
TZOFFSETTO:-0600
RDATE:20301103T020000
RDATE:20311102T020000
END:STANDARD
BEGIN:DAYLIGHT
TZNAME:CDT
DTSTART:20300310T020000
TZOFFSETFROM:-0600
TZOFFSETTO:-0500
RDATE:20310309T020000
END:DAYLIGHT
END:VTIMEZONE
BEGIN:VEVENT
UID:1af65095-b8c9-42b5-acce-1c6dbdaca4be
DTSTAMP:20260423T011627Z
DESCRIPTION:Please bring drinking water
DTSTART;TZID=America/Chicago:20300829T160000
DTEND;TZID=America/Chicago:20300829T170000
LOCATION:Firespring
SUMMARY:Walking Group
END:VEVENT
END:VCALENDAR
