BEGIN:VCALENDAR
VERSION:2.0
PRODID:-//phil.firespring.org//NONSGML kigkonsult.se iCalcreator 2.30.10//
CALSCALE:GREGORIAN
METHOD:PUBLISH
UID:03b38cd7-3f51-4411-b68e-6e2c683a9c08
X-WR-CALDESC:Please bring drinking water
X-WR-RELCALID:6d3b17c254681857367bf8b7985a022e
X-WR-TIMEZONE:America/Chicago
BEGIN:VTIMEZONE
TZID:America/Chicago
BEGIN:STANDARD
TZNAME:CST
DTSTART:20291104T020000
TZOFFSETFROM:-0500
TZOFFSETTO:-0600
RDATE:20301103T020000
RDATE:20311102T020000
END:STANDARD
BEGIN:DAYLIGHT
TZNAME:CDT
DTSTART:20300310T020000
TZOFFSETFROM:-0600
TZOFFSETTO:-0500
RDATE:20310309T020000
RDATE:20320314T020000
END:DAYLIGHT
END:VTIMEZONE
BEGIN:VEVENT
UID:c6aefe2b-bbf0-46e3-b785-81c2c9ffcfe1
DTSTAMP:20260423T025525Z
DESCRIPTION:Please bring drinking water
DTSTART;TZID=America/Chicago:20300926T160000
DTEND;TZID=America/Chicago:20300926T170000
LOCATION:Firespring
SUMMARY:Walking Group
END:VEVENT
END:VCALENDAR
