BEGIN:VCALENDAR
VERSION:2.0
PRODID:-//phil.firespring.org//NONSGML kigkonsult.se iCalcreator 2.30.10//
CALSCALE:GREGORIAN
METHOD:PUBLISH
UID:65a31633-751a-4860-a1df-e0b27c636ac2
X-WR-CALDESC:Please bring drinking water
X-WR-RELCALID:c9427b80bbcd630d6fe33e4bd2522cbb
X-WR-TIMEZONE:America/Chicago
BEGIN:VTIMEZONE
TZID:America/Chicago
BEGIN:STANDARD
TZNAME:CST
DTSTART:20301103T020000
TZOFFSETFROM:-0500
TZOFFSETTO:-0600
RDATE:20311102T020000
END:STANDARD
BEGIN:DAYLIGHT
TZNAME:CDT
DTSTART:20300310T020000
TZOFFSETFROM:-0600
TZOFFSETTO:-0500
RDATE:20310309T020000
RDATE:20320314T020000
END:DAYLIGHT
END:VTIMEZONE
BEGIN:VEVENT
UID:0fc09a24-81b4-48bb-b111-efb2079926fb
DTSTAMP:20260423T055710Z
DESCRIPTION:Please bring drinking water
DTSTART;TZID=America/Chicago:20301107T160000
DTEND;TZID=America/Chicago:20301107T170000
LOCATION:Firespring
SUMMARY:Walking Group
END:VEVENT
END:VCALENDAR
