BEGIN:VCALENDAR
VERSION:2.0
PRODID:-//phil.firespring.org//NONSGML kigkonsult.se iCalcreator 2.30.10//
CALSCALE:GREGORIAN
METHOD:PUBLISH
UID:fe018063-ce6f-45b8-96cd-3a4d4f24e84f
X-WR-CALDESC:Please bring drinking water
X-WR-RELCALID:6e6a0ee6ca9c25ee3834085314cf7098
X-WR-TIMEZONE:America/Chicago
BEGIN:VTIMEZONE
TZID:America/Chicago
BEGIN:STANDARD
TZNAME:CST
DTSTART:20301103T020000
TZOFFSETFROM:-0500
TZOFFSETTO:-0600
RDATE:20311102T020000
END:STANDARD
BEGIN:DAYLIGHT
TZNAME:CDT
DTSTART:20300310T020000
TZOFFSETFROM:-0600
TZOFFSETTO:-0500
RDATE:20310309T020000
RDATE:20320314T020000
END:DAYLIGHT
END:VTIMEZONE
BEGIN:VEVENT
UID:10bf12ae-9eb9-4bb1-a66b-3ccb4a6388b7
DTSTAMP:20260423T055710Z
DESCRIPTION:Please bring drinking water
DTSTART;TZID=America/Chicago:20301128T160000
DTEND;TZID=America/Chicago:20301128T170000
LOCATION:Firespring
SUMMARY:Walking Group
END:VEVENT
END:VCALENDAR
