BEGIN:VCALENDAR
VERSION:2.0
PRODID:-//phil.firespring.org//NONSGML kigkonsult.se iCalcreator 2.30.10//
CALSCALE:GREGORIAN
METHOD:PUBLISH
UID:7eec0761-0af7-4f3b-8b2c-d920492ce884
X-WR-CALDESC:Please bring drinking water
X-WR-RELCALID:c51e263a6285c6dfdf084093a2dc22bd
X-WR-TIMEZONE:America/Chicago
BEGIN:VTIMEZONE
TZID:America/Chicago
BEGIN:STANDARD
TZNAME:CST
DTSTART:20301103T020000
TZOFFSETFROM:-0500
TZOFFSETTO:-0600
RDATE:20311102T020000
END:STANDARD
BEGIN:DAYLIGHT
TZNAME:CDT
DTSTART:20300310T020000
TZOFFSETFROM:-0600
TZOFFSETTO:-0500
RDATE:20310309T020000
RDATE:20320314T020000
END:DAYLIGHT
END:VTIMEZONE
BEGIN:VEVENT
UID:bb6a91ed-9313-4986-bc2d-3dfdddb9f42c
DTSTAMP:20260423T075638Z
DESCRIPTION:Please bring drinking water
DTSTART;TZID=America/Chicago:20301205T160000
DTEND;TZID=America/Chicago:20301205T170000
LOCATION:Firespring
SUMMARY:Walking Group
END:VEVENT
END:VCALENDAR
