BEGIN:VCALENDAR
VERSION:2.0
PRODID:-//phil.firespring.org//NONSGML kigkonsult.se iCalcreator 2.30.10//
CALSCALE:GREGORIAN
METHOD:PUBLISH
UID:67af590f-dbae-48b1-9060-7e6ad217836c
X-WR-CALDESC:Please bring drinking water
X-WR-RELCALID:60cdb538d989c1fcab69e50b5ce49119
X-WR-TIMEZONE:America/Chicago
BEGIN:VTIMEZONE
TZID:America/Chicago
BEGIN:STANDARD
TZNAME:CST
DTSTART:20301103T020000
TZOFFSETFROM:-0500
TZOFFSETTO:-0600
RDATE:20311102T020000
END:STANDARD
BEGIN:DAYLIGHT
TZNAME:CDT
DTSTART:20300310T020000
TZOFFSETFROM:-0600
TZOFFSETTO:-0500
RDATE:20310309T020000
RDATE:20320314T020000
END:DAYLIGHT
END:VTIMEZONE
BEGIN:VEVENT
UID:4e33b44e-b756-446d-a371-3ab59edf2aac
DTSTAMP:20260423T073535Z
DESCRIPTION:Please bring drinking water
DTSTART;TZID=America/Chicago:20301226T160000
DTEND;TZID=America/Chicago:20301226T170000
LOCATION:Firespring
SUMMARY:Walking Group
END:VEVENT
END:VCALENDAR
