BEGIN:VCALENDAR
VERSION:2.0
PRODID:-//phil.firespring.org//NONSGML kigkonsult.se iCalcreator 2.30.10//
CALSCALE:GREGORIAN
METHOD:PUBLISH
UID:7bc7e9ca-4f62-4d22-873a-6246f19da5d5
X-WR-CALDESC:Please bring drinking water
X-WR-RELCALID:8e221900ee8cf496bb5ad05f323d9bd7
X-WR-TIMEZONE:America/Chicago
BEGIN:VTIMEZONE
TZID:America/Chicago
BEGIN:STANDARD
TZNAME:CST
DTSTART:20301103T020000
TZOFFSETFROM:-0500
TZOFFSETTO:-0600
RDATE:20311102T020000
END:STANDARD
BEGIN:DAYLIGHT
TZNAME:CDT
DTSTART:20300310T020000
TZOFFSETFROM:-0600
TZOFFSETTO:-0500
RDATE:20310309T020000
RDATE:20320314T020000
END:DAYLIGHT
END:VTIMEZONE
BEGIN:VEVENT
UID:587ebf07-d12f-4941-81c2-17c1b8a6e951
DTSTAMP:20260425T102833Z
DESCRIPTION:Please bring drinking water
DTSTART;TZID=America/Chicago:20310206T160000
DTEND;TZID=America/Chicago:20310206T170000
LOCATION:Firespring
SUMMARY:Walking Group
END:VEVENT
END:VCALENDAR
