BEGIN:VCALENDAR
VERSION:2.0
PRODID:-//phil.firespring.org//NONSGML kigkonsult.se iCalcreator 2.30.10//
CALSCALE:GREGORIAN
METHOD:PUBLISH
UID:7f97bd38-a3db-4f5f-8657-71135b92afe3
X-WR-CALDESC:Please bring drinking water
X-WR-RELCALID:b04f82b3c9a9b87714f8865bd5793e79
X-WR-TIMEZONE:America/Chicago
BEGIN:VTIMEZONE
TZID:America/Chicago
BEGIN:STANDARD
TZNAME:CST
DTSTART:20301103T020000
TZOFFSETFROM:-0500
TZOFFSETTO:-0600
RDATE:20311102T020000
END:STANDARD
BEGIN:DAYLIGHT
TZNAME:CDT
DTSTART:20300310T020000
TZOFFSETFROM:-0600
TZOFFSETTO:-0500
RDATE:20310309T020000
RDATE:20320314T020000
END:DAYLIGHT
END:VTIMEZONE
BEGIN:VEVENT
UID:4565e2df-25de-4fd7-900e-a3b9a8c184d4
DTSTAMP:20260425T113727Z
DESCRIPTION:Please bring drinking water
DTSTART;TZID=America/Chicago:20310306T160000
DTEND;TZID=America/Chicago:20310306T170000
LOCATION:Firespring
SUMMARY:Walking Group
END:VEVENT
END:VCALENDAR
