BEGIN:VCALENDAR
VERSION:2.0
PRODID:-//phil.firespring.org//NONSGML kigkonsult.se iCalcreator 2.30.10//
CALSCALE:GREGORIAN
METHOD:PUBLISH
UID:24b02d19-35be-439f-91c5-6f2d0b4b6d34
X-WR-CALDESC:Please bring drinking water
X-WR-RELCALID:ed9cec486a27aaaedfe05fd58b2bd5a9
X-WR-TIMEZONE:America/Chicago
BEGIN:VTIMEZONE
TZID:America/Chicago
BEGIN:STANDARD
TZNAME:CST
DTSTART:20301103T020000
TZOFFSETFROM:-0500
TZOFFSETTO:-0600
RDATE:20311102T020000
END:STANDARD
BEGIN:DAYLIGHT
TZNAME:CDT
DTSTART:20310309T020000
TZOFFSETFROM:-0600
TZOFFSETTO:-0500
RDATE:20320314T020000
END:DAYLIGHT
END:VTIMEZONE
BEGIN:VEVENT
UID:5d7000eb-9d8e-4934-ab9a-6d291f7ca0d7
DTSTAMP:20260425T113728Z
DESCRIPTION:Please bring drinking water
DTSTART;TZID=America/Chicago:20310313T160000
DTEND;TZID=America/Chicago:20310313T170000
LOCATION:Firespring
SUMMARY:Walking Group
END:VEVENT
END:VCALENDAR
