BEGIN:VCALENDAR
VERSION:2.0
PRODID:-//phil.firespring.org//NONSGML kigkonsult.se iCalcreator 2.30.10//
CALSCALE:GREGORIAN
METHOD:PUBLISH
UID:06e24a50-34fc-45eb-b929-0f875744c882
X-WR-CALDESC:
X-WR-RELCALID:ff059286557ea9ba66cf8c5022bb74a0
X-WR-TIMEZONE:America/Chicago
BEGIN:VTIMEZONE
TZID:America/Chicago
BEGIN:STANDARD
TZNAME:CST
DTSTART:20301103T020000
TZOFFSETFROM:-0500
TZOFFSETTO:-0600
RDATE:20311102T020000
END:STANDARD
BEGIN:DAYLIGHT
TZNAME:CDT
DTSTART:20310309T020000
TZOFFSETFROM:-0600
TZOFFSETTO:-0500
RDATE:20320314T020000
END:DAYLIGHT
END:VTIMEZONE
BEGIN:VEVENT
UID:d9c0a439-6aa1-455d-b64e-dd1e65f7d5dd
DTSTAMP:20260425T114143Z
DESCRIPTION:
DTSTART;TZID=America/Chicago:20310320T133000
DTEND;TZID=America/Chicago:20310320T143000
LOCATION:
SUMMARY:Monthly Lunch
END:VEVENT
END:VCALENDAR
