BEGIN:VCALENDAR
VERSION:2.0
PRODID:-//phil.firespring.org//NONSGML kigkonsult.se iCalcreator 2.30.10//
CALSCALE:GREGORIAN
METHOD:PUBLISH
UID:55fd9c26-9bec-403a-be4d-090939975e10
X-WR-CALDESC:Please bring drinking water
X-WR-RELCALID:9672b07b545c2399957b48969c40af6d
X-WR-TIMEZONE:America/Chicago
BEGIN:VTIMEZONE
TZID:America/Chicago
BEGIN:STANDARD
TZNAME:CST
DTSTART:20301103T020000
TZOFFSETFROM:-0500
TZOFFSETTO:-0600
RDATE:20311102T020000
END:STANDARD
BEGIN:DAYLIGHT
TZNAME:CDT
DTSTART:20310309T020000
TZOFFSETFROM:-0600
TZOFFSETTO:-0500
RDATE:20320314T020000
END:DAYLIGHT
END:VTIMEZONE
BEGIN:VEVENT
UID:53a46595-1f95-4474-b102-ed2d74c126fd
DTSTAMP:20260425T113835Z
DESCRIPTION:Please bring drinking water
DTSTART;TZID=America/Chicago:20310327T160000
DTEND;TZID=America/Chicago:20310327T170000
LOCATION:Firespring
SUMMARY:Walking Group
END:VEVENT
END:VCALENDAR
