BEGIN:VCALENDAR
VERSION:2.0
PRODID:-//phil.firespring.org//NONSGML kigkonsult.se iCalcreator 2.30.10//
CALSCALE:GREGORIAN
METHOD:PUBLISH
UID:8475bfda-2d9d-4586-90f0-8b211f1d5278
X-WR-CALDESC:Please bring drinking water
X-WR-RELCALID:b1456051d5b036de17917dc2d2335052
X-WR-TIMEZONE:America/Chicago
BEGIN:VTIMEZONE
TZID:America/Chicago
BEGIN:STANDARD
TZNAME:CST
DTSTART:20301103T020000
TZOFFSETFROM:-0500
TZOFFSETTO:-0600
RDATE:20311102T020000
END:STANDARD
BEGIN:DAYLIGHT
TZNAME:CDT
DTSTART:20310309T020000
TZOFFSETFROM:-0600
TZOFFSETTO:-0500
RDATE:20320314T020000
END:DAYLIGHT
END:VTIMEZONE
BEGIN:VEVENT
UID:89df4e3f-7a14-45a7-b6bc-2fade6215e84
DTSTAMP:20260425T130145Z
DESCRIPTION:Please bring drinking water
DTSTART;TZID=America/Chicago:20310403T160000
DTEND;TZID=America/Chicago:20310403T170000
LOCATION:Firespring
SUMMARY:Walking Group
END:VEVENT
END:VCALENDAR
