BEGIN:VCALENDAR
VERSION:2.0
PRODID:-//phil.firespring.org//NONSGML kigkonsult.se iCalcreator 2.30.10//
CALSCALE:GREGORIAN
METHOD:PUBLISH
UID:df242dfc-6f3c-4df7-a9af-cf3b4733b95d
X-WR-CALDESC:Please bring drinking water
X-WR-RELCALID:ad1914e208bc47feee24e7f175a8b9f6
X-WR-TIMEZONE:America/Chicago
BEGIN:VTIMEZONE
TZID:America/Chicago
BEGIN:STANDARD
TZNAME:CST
DTSTART:20301103T020000
TZOFFSETFROM:-0500
TZOFFSETTO:-0600
RDATE:20311102T020000
END:STANDARD
BEGIN:DAYLIGHT
TZNAME:CDT
DTSTART:20310309T020000
TZOFFSETFROM:-0600
TZOFFSETTO:-0500
RDATE:20320314T020000
END:DAYLIGHT
END:VTIMEZONE
BEGIN:VEVENT
UID:500c262b-bc3e-4466-9abf-6ff690ca32de
DTSTAMP:20260425T130259Z
DESCRIPTION:Please bring drinking water
DTSTART;TZID=America/Chicago:20310410T160000
DTEND;TZID=America/Chicago:20310410T170000
LOCATION:Firespring
SUMMARY:Walking Group
END:VEVENT
END:VCALENDAR
