BEGIN:VCALENDAR
VERSION:2.0
PRODID:-//phil.firespring.org//NONSGML kigkonsult.se iCalcreator 2.30.10//
CALSCALE:GREGORIAN
METHOD:PUBLISH
UID:3151b08e-a3b0-4ef4-a0dc-81d068fbc08a
X-WR-CALDESC:
X-WR-RELCALID:94edb904244bc1b6bed3068e1ceb452f
X-WR-TIMEZONE:America/Chicago
BEGIN:VTIMEZONE
TZID:America/Chicago
BEGIN:STANDARD
TZNAME:CST
DTSTART:20301103T020000
TZOFFSETFROM:-0500
TZOFFSETTO:-0600
RDATE:20311102T020000
END:STANDARD
BEGIN:DAYLIGHT
TZNAME:CDT
DTSTART:20310309T020000
TZOFFSETFROM:-0600
TZOFFSETTO:-0500
RDATE:20320314T020000
END:DAYLIGHT
END:VTIMEZONE
BEGIN:VEVENT
UID:4a1bee65-1ad0-465e-a4b8-34c456f6b7f1
DTSTAMP:20260425T130717Z
DESCRIPTION:
DTSTART;TZID=America/Chicago:20310417T133000
DTEND;TZID=America/Chicago:20310417T143000
LOCATION:
SUMMARY:Monthly Lunch
END:VEVENT
END:VCALENDAR
