BEGIN:VCALENDAR
VERSION:2.0
PRODID:-//phil.firespring.org//NONSGML kigkonsult.se iCalcreator 2.30.10//
CALSCALE:GREGORIAN
METHOD:PUBLISH
UID:fa30f448-001b-4911-9b77-976570ddd88d
X-WR-CALDESC:Please bring drinking water
X-WR-RELCALID:348134bbc410db867dce5eea5921235d
X-WR-TIMEZONE:America/Chicago
BEGIN:VTIMEZONE
TZID:America/Chicago
BEGIN:STANDARD
TZNAME:CST
DTSTART:20301103T020000
TZOFFSETFROM:-0500
TZOFFSETTO:-0600
RDATE:20311102T020000
END:STANDARD
BEGIN:DAYLIGHT
TZNAME:CDT
DTSTART:20310309T020000
TZOFFSETFROM:-0600
TZOFFSETTO:-0500
RDATE:20320314T020000
END:DAYLIGHT
END:VTIMEZONE
BEGIN:VEVENT
UID:ee6c0a2e-56a4-40a2-9d65-d7b9cf92dda7
DTSTAMP:20260425T130318Z
DESCRIPTION:Please bring drinking water
DTSTART;TZID=America/Chicago:20310424T160000
DTEND;TZID=America/Chicago:20310424T170000
LOCATION:Firespring
SUMMARY:Walking Group
END:VEVENT
END:VCALENDAR
