BEGIN:VCALENDAR
VERSION:2.0
PRODID:-//phil.firespring.org//NONSGML kigkonsult.se iCalcreator 2.30.10//
CALSCALE:GREGORIAN
METHOD:PUBLISH
UID:04cc5d6b-ca92-41a4-b64f-7509d297d91e
X-WR-CALDESC:Please bring drinking water
X-WR-RELCALID:b19a00351dd7c7c43f26406ffa9b9407
X-WR-TIMEZONE:America/Chicago
BEGIN:VTIMEZONE
TZID:America/Chicago
BEGIN:STANDARD
TZNAME:CST
DTSTART:20301103T020000
TZOFFSETFROM:-0500
TZOFFSETTO:-0600
RDATE:20311102T020000
END:STANDARD
BEGIN:DAYLIGHT
TZNAME:CDT
DTSTART:20310309T020000
TZOFFSETFROM:-0600
TZOFFSETTO:-0500
RDATE:20320314T020000
END:DAYLIGHT
END:VTIMEZONE
BEGIN:VEVENT
UID:1397387e-a448-4d14-ae36-ba7254825792
DTSTAMP:20260425T142652Z
DESCRIPTION:Please bring drinking water
DTSTART;TZID=America/Chicago:20310508T160000
DTEND;TZID=America/Chicago:20310508T170000
LOCATION:Firespring
SUMMARY:Walking Group
END:VEVENT
END:VCALENDAR
