BEGIN:VCALENDAR
VERSION:2.0
PRODID:-//phil.firespring.org//NONSGML kigkonsult.se iCalcreator 2.30.10//
CALSCALE:GREGORIAN
METHOD:PUBLISH
UID:098713e5-1a39-4cbc-973c-e7c50d2eee70
X-WR-CALDESC:Please bring drinking water
X-WR-RELCALID:c9a38e2692af39beb2e23dedad5fbc1e
X-WR-TIMEZONE:America/Chicago
BEGIN:VTIMEZONE
TZID:America/Chicago
BEGIN:STANDARD
TZNAME:CST
DTSTART:20301103T020000
TZOFFSETFROM:-0500
TZOFFSETTO:-0600
RDATE:20311102T020000
RDATE:20321107T020000
END:STANDARD
BEGIN:DAYLIGHT
TZNAME:CDT
DTSTART:20310309T020000
TZOFFSETFROM:-0600
TZOFFSETTO:-0500
RDATE:20320314T020000
END:DAYLIGHT
END:VTIMEZONE
BEGIN:VEVENT
UID:ec71ff2a-0313-4594-9a43-c9a916419055
DTSTAMP:20260425T142604Z
DESCRIPTION:Please bring drinking water
DTSTART;TZID=America/Chicago:20310522T160000
DTEND;TZID=America/Chicago:20310522T170000
LOCATION:Firespring
SUMMARY:Walking Group
END:VEVENT
END:VCALENDAR
