BEGIN:VCALENDAR
VERSION:2.0
PRODID:-//phil.firespring.org//NONSGML kigkonsult.se iCalcreator 2.30.10//
CALSCALE:GREGORIAN
METHOD:PUBLISH
UID:adc0b129-49c6-4785-9151-3d1ffc031a72
X-WR-CALDESC:Please bring drinking water
X-WR-RELCALID:65e446d8c811e65f49baf43082d2af26
X-WR-TIMEZONE:America/Chicago
BEGIN:VTIMEZONE
TZID:America/Chicago
BEGIN:STANDARD
TZNAME:CST
DTSTART:20301103T020000
TZOFFSETFROM:-0500
TZOFFSETTO:-0600
RDATE:20311102T020000
RDATE:20321107T020000
END:STANDARD
BEGIN:DAYLIGHT
TZNAME:CDT
DTSTART:20310309T020000
TZOFFSETFROM:-0600
TZOFFSETTO:-0500
RDATE:20320314T020000
END:DAYLIGHT
END:VTIMEZONE
BEGIN:VEVENT
UID:ec2ba2d2-ddb1-4606-bd68-80026c32e7ec
DTSTAMP:20260425T154623Z
DESCRIPTION:Please bring drinking water
DTSTART;TZID=America/Chicago:20310605T160000
DTEND;TZID=America/Chicago:20310605T170000
LOCATION:Firespring
SUMMARY:Walking Group
END:VEVENT
END:VCALENDAR
