BEGIN:VCALENDAR
VERSION:2.0
PRODID:-//phil.firespring.org//NONSGML kigkonsult.se iCalcreator 2.30.10//
CALSCALE:GREGORIAN
METHOD:PUBLISH
UID:82fadfbe-be45-4f44-9241-2bf08a9eba13
X-WR-CALDESC:Please bring drinking water
X-WR-RELCALID:0cb527a78b28528f87a0011314031d0d
X-WR-TIMEZONE:America/Chicago
BEGIN:VTIMEZONE
TZID:America/Chicago
BEGIN:STANDARD
TZNAME:CST
DTSTART:20301103T020000
TZOFFSETFROM:-0500
TZOFFSETTO:-0600
RDATE:20311102T020000
RDATE:20321107T020000
END:STANDARD
BEGIN:DAYLIGHT
TZNAME:CDT
DTSTART:20310309T020000
TZOFFSETFROM:-0600
TZOFFSETTO:-0500
RDATE:20320314T020000
END:DAYLIGHT
END:VTIMEZONE
BEGIN:VEVENT
UID:80a67be0-5389-4f34-a7be-b549592df2c0
DTSTAMP:20260425T182615Z
DESCRIPTION:Please bring drinking water
DTSTART;TZID=America/Chicago:20310828T160000
DTEND;TZID=America/Chicago:20310828T170000
LOCATION:Firespring
SUMMARY:Walking Group
END:VEVENT
END:VCALENDAR
