BEGIN:VCALENDAR
VERSION:2.0
PRODID:-//phil.firespring.org//NONSGML kigkonsult.se iCalcreator 2.30.10//
CALSCALE:GREGORIAN
METHOD:PUBLISH
UID:03b20889-92a9-4b51-ba1e-c023ac89c64c
X-WR-CALDESC:Please bring drinking water
X-WR-RELCALID:76996a1e77b6c78b35a8492f48116311
X-WR-TIMEZONE:America/Chicago
BEGIN:VTIMEZONE
TZID:America/Chicago
BEGIN:STANDARD
TZNAME:CST
DTSTART:20301103T020000
TZOFFSETFROM:-0500
TZOFFSETTO:-0600
RDATE:20311102T020000
RDATE:20321107T020000
END:STANDARD
BEGIN:DAYLIGHT
TZNAME:CDT
DTSTART:20310309T020000
TZOFFSETFROM:-0600
TZOFFSETTO:-0500
RDATE:20320314T020000
RDATE:20330313T020000
END:DAYLIGHT
END:VTIMEZONE
BEGIN:VEVENT
UID:01a3d069-b79e-4a03-9109-43fb4b543f8d
DTSTAMP:20260425T194242Z
DESCRIPTION:Please bring drinking water
DTSTART;TZID=America/Chicago:20310925T160000
DTEND;TZID=America/Chicago:20310925T170000
LOCATION:Firespring
SUMMARY:Walking Group
END:VEVENT
END:VCALENDAR
