BEGIN:VCALENDAR
VERSION:2.0
PRODID:-//phil.firespring.org//NONSGML kigkonsult.se iCalcreator 2.30.10//
CALSCALE:GREGORIAN
METHOD:PUBLISH
UID:69279f86-c8f2-407a-817c-5ca4652298ea
X-WR-CALDESC:
X-WR-RELCALID:0d4ec85b2167f99b9283e6ed05e2f289
X-WR-TIMEZONE:America/Chicago
BEGIN:VTIMEZONE
TZID:America/Chicago
BEGIN:STANDARD
TZNAME:CST
DTSTART:20191103T020000
TZOFFSETFROM:-0500
TZOFFSETTO:-0600
RDATE:20201101T020000
END:STANDARD
BEGIN:DAYLIGHT
TZNAME:CDT
DTSTART:20200308T020000
TZOFFSETFROM:-0600
TZOFFSETTO:-0500
RDATE:20210314T020000
END:DAYLIGHT
END:VTIMEZONE
BEGIN:VEVENT
UID:6e175980-2bd4-400e-a1f0-6e746f10a01c
DTSTAMP:20260426T035700Z
DESCRIPTION:
DTSTART;TZID=America/Chicago:20200413T143000
DTEND;TZID=America/Chicago:20200413T153000
LOCATION:
SUMMARY:NETWORK 2020
END:VEVENT
END:VCALENDAR
