BEGIN:VCALENDAR
VERSION:2.0
PRODID:-//phil.firespring.org//NONSGML kigkonsult.se iCalcreator 2.30.10//
CALSCALE:GREGORIAN
METHOD:PUBLISH
UID:603855df-472b-46bc-a1af-118c28b7090b
X-WR-CALDESC:Please bring drinking water
X-WR-RELCALID:c48b0d46e7da80fabda5eea4a48cb72f
X-WR-TIMEZONE:America/Chicago
BEGIN:VTIMEZONE
TZID:America/Chicago
BEGIN:STANDARD
TZNAME:CST
DTSTART:20191103T020000
TZOFFSETFROM:-0500
TZOFFSETTO:-0600
RDATE:20201101T020000
END:STANDARD
BEGIN:DAYLIGHT
TZNAME:CDT
DTSTART:20200308T020000
TZOFFSETFROM:-0600
TZOFFSETTO:-0500
RDATE:20210314T020000
END:DAYLIGHT
END:VTIMEZONE
BEGIN:VEVENT
UID:c26e47cf-f26a-4a7a-bba9-79e5d32ade05
DTSTAMP:20260426T040840Z
DESCRIPTION:Please bring drinking water
DTSTART;TZID=America/Chicago:20200416T160000
DTEND;TZID=America/Chicago:20200416T170000
LOCATION:Firespring
SUMMARY:Walking Group
END:VEVENT
END:VCALENDAR
