BEGIN:VCALENDAR
VERSION:2.0
PRODID:-//phil.firespring.org//NONSGML kigkonsult.se iCalcreator 2.30.10//
CALSCALE:GREGORIAN
METHOD:PUBLISH
UID:82c84198-4893-460c-94ad-2ddf2d930ad2
X-WR-CALDESC:Join us as we celebrate our community and organize one new pro
 ject each month. Sack lunches will be provided for those that are staying 
 longer than two hours.
X-WR-RELCALID:450106518c35bf59e2b680fad0b1402d
X-WR-TIMEZONE:America/Chicago
BEGIN:VTIMEZONE
TZID:America/Chicago
BEGIN:STANDARD
TZNAME:CST
DTSTART:20191103T020000
TZOFFSETFROM:-0500
TZOFFSETTO:-0600
RDATE:20201101T020000
END:STANDARD
BEGIN:DAYLIGHT
TZNAME:CDT
DTSTART:20200308T020000
TZOFFSETFROM:-0600
TZOFFSETTO:-0500
RDATE:20210314T020000
END:DAYLIGHT
END:VTIMEZONE
BEGIN:VEVENT
UID:274703c7-648e-4d0e-9c67-e3f9b900df51
DTSTAMP:20260426T042547Z
DESCRIPTION:Join us as we celebrate our community and organize one new proj
 ect each month. Sack lunches will be provided for those that are staying l
 onger than two hours.
DTSTART;TZID=America/Chicago:20200419T090000
DTEND;TZID=America/Chicago:20200419T150000
LOCATION:City Park
SUMMARY:Community Outreach
END:VEVENT
END:VCALENDAR
