BEGIN:VCALENDAR
VERSION:2.0
PRODID:-//phil.firespring.org//NONSGML kigkonsult.se iCalcreator 2.30.10//
CALSCALE:GREGORIAN
METHOD:PUBLISH
UID:cd8777e2-9616-4788-8553-1356db54c7ed
X-WR-CALDESC:
X-WR-RELCALID:9e50fe34767910eb7a38ff692cf47e41
X-WR-TIMEZONE:America/Chicago
BEGIN:VTIMEZONE
TZID:America/Chicago
BEGIN:STANDARD
TZNAME:CST
DTSTART:20191103T020000
TZOFFSETFROM:-0500
TZOFFSETTO:-0600
RDATE:20201101T020000
END:STANDARD
BEGIN:DAYLIGHT
TZNAME:CDT
DTSTART:20200308T020000
TZOFFSETFROM:-0600
TZOFFSETTO:-0500
RDATE:20210314T020000
END:DAYLIGHT
END:VTIMEZONE
BEGIN:VEVENT
UID:723790f5-dd40-43ff-86e7-b7c4376ccd26
DTSTAMP:20260426T035741Z
DESCRIPTION:
DTSTART;TZID=America/Chicago:20200420T160000
DTEND;TZID=America/Chicago:20200420T170000
LOCATION:
SUMMARY:Golf Event
END:VEVENT
END:VCALENDAR
