BEGIN:VCALENDAR
VERSION:2.0
PRODID:-//phil.firespring.org//NONSGML kigkonsult.se iCalcreator 2.30.10//
CALSCALE:GREGORIAN
METHOD:PUBLISH
UID:71c35b7c-7ceb-4ed6-9067-f7f3f2f57891
X-WR-CALDESC:
X-WR-RELCALID:de4518f133db47966d6c372e8b3eca02
X-WR-TIMEZONE:America/Chicago
BEGIN:VTIMEZONE
TZID:America/Chicago
BEGIN:STANDARD
TZNAME:CST
DTSTART:20191103T020000
TZOFFSETFROM:-0500
TZOFFSETTO:-0600
RDATE:20201101T020000
END:STANDARD
BEGIN:DAYLIGHT
TZNAME:CDT
DTSTART:20200308T020000
TZOFFSETFROM:-0600
TZOFFSETTO:-0500
RDATE:20210314T020000
END:DAYLIGHT
END:VTIMEZONE
BEGIN:VEVENT
UID:aabe69e0-f614-4947-b415-146d0619ab12
DTSTAMP:20260426T035954Z
DESCRIPTION:
DTSTART;TZID=America/Chicago:20200420T140000
DTEND;TZID=America/Chicago:20200420T150000
LOCATION:
SUMMARY:Romeo & Juliet
END:VEVENT
END:VCALENDAR
