BEGIN:VCALENDAR
VERSION:2.0
PRODID:-//phil.firespring.org//NONSGML kigkonsult.se iCalcreator 2.30.10//
CALSCALE:GREGORIAN
METHOD:PUBLISH
UID:b01da5d2-8cf2-4439-b4cb-20ba217cc7a3
X-WR-CALDESC:Please bring drinking water
X-WR-RELCALID:a68339234e9801b1ac25edeac3772421
X-WR-TIMEZONE:America/Chicago
BEGIN:VTIMEZONE
TZID:America/Chicago
BEGIN:STANDARD
TZNAME:CST
DTSTART:20191103T020000
TZOFFSETFROM:-0500
TZOFFSETTO:-0600
RDATE:20201101T020000
END:STANDARD
BEGIN:DAYLIGHT
TZNAME:CDT
DTSTART:20200308T020000
TZOFFSETFROM:-0600
TZOFFSETTO:-0500
RDATE:20210314T020000
END:DAYLIGHT
END:VTIMEZONE
BEGIN:VEVENT
UID:f1accb6b-44fc-4e4e-8293-3c44808aeb61
DTSTAMP:20260426T040005Z
DESCRIPTION:Please bring drinking water
DTSTART;TZID=America/Chicago:20200423T160000
DTEND;TZID=America/Chicago:20200423T170000
LOCATION:Firespring
SUMMARY:Walking Group
END:VEVENT
END:VCALENDAR
