BEGIN:VCALENDAR
VERSION:2.0
PRODID:-//phil.firespring.org//NONSGML kigkonsult.se iCalcreator 2.30.10//
CALSCALE:GREGORIAN
METHOD:PUBLISH
UID:15d7c2dd-4487-4b1e-8043-19580c18b1f3
X-WR-CALDESC:
X-WR-RELCALID:649d4cfeb7b752eadaf1f3de6032186e
X-WR-TIMEZONE:America/Chicago
BEGIN:VTIMEZONE
TZID:America/Chicago
BEGIN:STANDARD
TZNAME:CST
DTSTART:20191103T020000
TZOFFSETFROM:-0500
TZOFFSETTO:-0600
RDATE:20201101T020000
RDATE:20211107T020000
END:STANDARD
BEGIN:DAYLIGHT
TZNAME:CDT
DTSTART:20200308T020000
TZOFFSETFROM:-0600
TZOFFSETTO:-0500
RDATE:20210314T020000
END:DAYLIGHT
END:VTIMEZONE
BEGIN:VEVENT
UID:af209cf0-9aab-49f0-8288-cce1e25814f0
DTSTAMP:20260426T023006Z
DESCRIPTION:
DTSTART;TZID=America/Chicago:20200531T133000
DTEND;TZID=America/Chicago:20200531T143000
LOCATION:Firespring
SUMMARY:Conference 2020
END:VEVENT
END:VCALENDAR
