BEGIN:VCALENDAR
VERSION:2.0
PRODID:-//phil.firespring.org//NONSGML kigkonsult.se iCalcreator 2.30.10//
CALSCALE:GREGORIAN
METHOD:PUBLISH
UID:187f7296-8346-44ca-99f8-6181780fd3f7
X-WR-CALDESC:Please bring drinking water
X-WR-RELCALID:9074ab02d91e1dfb8bc3ec3c48cf5034
X-WR-TIMEZONE:America/Chicago
BEGIN:VTIMEZONE
TZID:America/Chicago
BEGIN:STANDARD
TZNAME:CST
DTSTART:20191103T020000
TZOFFSETFROM:-0500
TZOFFSETTO:-0600
RDATE:20201101T020000
RDATE:20211107T020000
END:STANDARD
BEGIN:DAYLIGHT
TZNAME:CDT
DTSTART:20200308T020000
TZOFFSETFROM:-0600
TZOFFSETTO:-0500
RDATE:20210314T020000
END:DAYLIGHT
END:VTIMEZONE
BEGIN:VEVENT
UID:ad0046a8-18d9-4419-bf4d-b083d5f9898b
DTSTAMP:20260426T005655Z
DESCRIPTION:Please bring drinking water
DTSTART;TZID=America/Chicago:20200618T160000
DTEND;TZID=America/Chicago:20200618T170000
LOCATION:Firespring
SUMMARY:Walking Group
END:VEVENT
END:VCALENDAR
