BEGIN:VCALENDAR
VERSION:2.0
PRODID:-//phil.firespring.org//NONSGML kigkonsult.se iCalcreator 2.30.10//
CALSCALE:GREGORIAN
METHOD:PUBLISH
UID:544f99f5-b654-4d0a-8191-66e40c8e6bbd
X-WR-CALDESC:
X-WR-RELCALID:c613783fac37b43d80b47aafe7a2a7f6
X-WR-TIMEZONE:America/Chicago
BEGIN:VTIMEZONE
TZID:America/Chicago
BEGIN:STANDARD
TZNAME:CST
DTSTART:20191103T020000
TZOFFSETFROM:-0500
TZOFFSETTO:-0600
RDATE:20201101T020000
RDATE:20211107T020000
END:STANDARD
BEGIN:DAYLIGHT
TZNAME:CDT
DTSTART:20200308T020000
TZOFFSETFROM:-0600
TZOFFSETTO:-0500
RDATE:20210314T020000
END:DAYLIGHT
END:VTIMEZONE
BEGIN:VEVENT
UID:57c3ddb7-b87a-486f-ba24-c962a6717ded
DTSTAMP:20260426T005301Z
DESCRIPTION:
DTSTART;TZID=America/Chicago:20200630T123000
DTEND;TZID=America/Chicago:20200630T133000
LOCATION:Firespring
SUMMARY:Golf Event
END:VEVENT
END:VCALENDAR
