BEGIN:VCALENDAR
VERSION:2.0
PRODID:-//phil.firespring.org//NONSGML kigkonsult.se iCalcreator 2.30.10//
CALSCALE:GREGORIAN
METHOD:PUBLISH
UID:58836587-b40c-40bb-9e42-4798f6f99243
X-WR-CALDESC:Please bring drinking water
X-WR-RELCALID:9ccee24eadb27321afa8239457fe607f
X-WR-TIMEZONE:America/Chicago
BEGIN:VTIMEZONE
TZID:America/Chicago
BEGIN:STANDARD
TZNAME:CST
DTSTART:20191103T020000
TZOFFSETFROM:-0500
TZOFFSETTO:-0600
RDATE:20201101T020000
RDATE:20211107T020000
END:STANDARD
BEGIN:DAYLIGHT
TZNAME:CDT
DTSTART:20200308T020000
TZOFFSETFROM:-0600
TZOFFSETTO:-0500
RDATE:20210314T020000
END:DAYLIGHT
END:VTIMEZONE
BEGIN:VEVENT
UID:fb1b9352-74de-4f70-9c40-84d34c683d93
DTSTAMP:20260425T233246Z
DESCRIPTION:Please bring drinking water
DTSTART;TZID=America/Chicago:20200723T160000
DTEND;TZID=America/Chicago:20200723T170000
LOCATION:Firespring
SUMMARY:Walking Group
END:VEVENT
END:VCALENDAR
